BEGIN:VCALENDAR
VERSION:2.0
PRODID:Events Booking
BEGIN:VEVENT
UID:69e72cdb72cf9
SUMMARY: Fabrication d'un nettoyant soin visage solide et d'un savon exfoli
 ant pour le corps.
DESCRIPTION:Apprenez à fabriquer vos cosmétiques solides soins visages et
  corps\, ultra efficace et totalement zéro déchets. 
LOCATION:Le Vert Clair\, Place de la Mairie\, Les Hôpitaux-Neufs\, 25370 B
 ourgogne-Franche-Comté
DTSTART:20250517T130000Z
DTEND:20250517T151500Z
DTSTAMP:20260421T075259Z
ORGANIZER;CN=Sortir Haut-Doubs:MAILTO:admin@sortirhautdoubs.fr
GEO:46.776852;6.373611
X-APPLE-STRUCTURED-LOCATION;VALUE=URI;X-ADDRESS=Le Vert Clair\, Place de la
  Mairie\, Les Hôpitaux-Neufs\, 25370 Bourgogne-Franche-Comté;X-APPLE-RAD
 IUS=72;X-TITLE=Les Hôpitaux-Neufs - Le Vert Clair:46.776852;6.373611
END:VEVENT
END:VCALENDAR