BEGIN:VCALENDAR
VERSION:2.0
PRODID:Events Booking
BEGIN:VEVENT
UID:69e52e72e76de
SUMMARY:Tournoi de Pétanque FC Massif Haut-Doubs
DESCRIPTION:    Tournoi de Pétanque du club du FC Massif Haut-Doubs (ouver
 t à tous) - Doublettes formées - Buvette et restauration sur place
  
LOCATION:Route de la Poste\, Les Hôpitaux-Neufs\, 25370 Bourgogne-Franche-
 Comté
DTSTART:20240907T073000Z
DTSTAMP:20240828T124550Z
ORGANIZER;CN=Sortir Haut-Doubs:MAILTO:admin@sortirhautdoubs.fr
GEO:46.773319;6.366832
X-APPLE-STRUCTURED-LOCATION;VALUE=URI;X-ADDRESS=Route de la Poste\, Les Hô
 pitaux-Neufs\, 25370 Bourgogne-Franche-Comté;X-APPLE-RADIUS=72;X-TITLE=Le
 s Hôpitaux-Neufs - Camping:46.773319;6.366832
END:VEVENT
END:VCALENDAR